BEGIN:VCALENDAR
VERSION:2.0
PRODID:-//eventon.com NONSGML v1.0//EN
CALSCALE:GREGORIAN
METHOD:PUBLISH
BEGIN:VEVENT
UID:69e92f2f6ba70
DTSTAMP:20260422T202727Z
DTSTART:20251121T080000Z
DTEND:20251207T220000Z
LOCATION:
SUMMARY:Croptober Harvest
DESCRIPTION:Croptober is the peak of outdoor harvest and It&#8217;s where l
 egacy cultivators and small-batch growers bring unmatched craft to our comm
 unity. Farms harvest in October and distribute in November and we have the 
 exclusive products fresh off the farm! This Croptober\,  we are featuring 5
  farms: Redwood Roots\,  Farm Cut\, [..]\n/events/c
 roptober-harvest/
URL:/events/croptober-harvest/
END:VEVENT
END:VCALENDAR