BEGIN:VCALENDAR
VERSION:2.0
PRODID:-//eventon.com NONSGML v1.0//EN
CALSCALE:GREGORIAN
METHOD:PUBLISH
BEGIN:VEVENT
UID:69e92fbaaedf9
DTSTAMP:20260422T202946Z
DTSTART:20251219T160000Z
DTEND:20251220T060000Z
LOCATION:High Seas 1921 Harbor Blvd
SUMMARY:Holiday on the High Seas
DESCRIPTION:\n/events/holiday-on-the-high-seas/
URL:/events/holiday-on-the-high-seas/
END:VEVENT
END:VCALENDAR