BEGIN:VCALENDAR
VERSION:2.0
PRODID:-//eventon.com NONSGML v1.0//EN
CALSCALE:GREGORIAN
METHOD:PUBLISH
BEGIN:VEVENT
UID:69e93061baf9d
DTSTAMP:20260422T203233Z
DTSTART:20260214T160000Z
DTEND:20260215T060000Z
LOCATION:High Seas 1921 Harbor Blvd
SUMMARY:High On Love
DESCRIPTION:HIGH ON LOVE img.wp-image-1608 { max-width: 540px; margin: 0 au
 to; } @media (max-width: 768px) { /* CSS rules applied when the viewport wi
 dth is 768px or less */ img.wp-image-1608 { max-width: 100%; } } Come celeb
 rate love with a Curated Lover&#8217;s Box\,  Wellness Experiences\,  Exclu
 sive Deals\,  and In-store moments. 🌊&nbsp;Event[..]\nhttps://shophighse
 as.com/events/love-on-the-high-seas/
URL:/events/love-on-the-high-seas/
END:VEVENT
END:VCALENDAR