BEGIN:VCALENDAR
VERSION:2.0
PRODID:-//eventon.com NONSGML v1.0//EN
CALSCALE:GREGORIAN
METHOD:PUBLISH
BEGIN:VEVENT
UID:69e92e592a3ee
DTSTAMP:20260422T202353Z
DTSTART:20260217T160000Z
DTEND:20260304T060000Z
LOCATION:
SUMMARY:Lunar New Year 2026
DESCRIPTION:Celebrate the Year of the Horse with High Seas!From February 17
  – March 3\,  spend $75 or more and receive $20 off your next purchase. R
 ide into the new year with good fortune\,  great vibes\,  and even better r
 ewards.\n/events/lunar-new-year-2026/
URL:/events/lunar-new-year-2026/
END:VEVENT
END:VCALENDAR