BEGIN:VCALENDAR
VERSION:2.0
PRODID:-//eventon.com NONSGML v1.0//EN
CALSCALE:GREGORIAN
METHOD:PUBLISH
BEGIN:VEVENT
UID:69e92f2f6b451
DTSTAMP:20260422T202727Z
DTSTART:20260317T234000Z
DTEND:20260317T234000Z
LOCATION:
SUMMARY:St. Patrick's Day
DESCRIPTION:\n/events/st-patricks-day/
URL:/events/st-patricks-day/
END:VEVENT
END:VCALENDAR