BEGIN:VCALENDAR
VERSION:2.0
PRODID:-//eventon.com NONSGML v1.0//EN
CALSCALE:GREGORIAN
METHOD:PUBLISH
BEGIN:VEVENT
UID:69e94778ec4e6
DTSTAMP:20260422T221104Z
DTSTART:20260608T160000Z
DTEND:20260608T200000Z
LOCATION:
SUMMARY:High Seas Beach Clean-Up | World Ocean Day
DESCRIPTION:Join us in protecting our coastline and celebrating community C
 elebrate World Ocean Day with High Seas by giving back to the ocean that gi
 ves us so much. We’re hosting a community beach clean-up and inviting eve
 ryone to be part of it whether you&#8217;re a regular volunteer or just loo
 king for[..]\n/events/high-seas-beach-clean-up-worl
 d-ocean-day/
URL:/events/high-seas-beach-clean-up-world-ocean-day/
END:VEVENT
END:VCALENDAR