BEGIN:VCALENDAR
VERSION:2.0
PRODID:-//eventon.com NONSGML v1.0//EN
CALSCALE:GREGORIAN
METHOD:PUBLISH
BEGIN:VEVENT
UID:69e97a849a96d
DTSTAMP:20260423T014852Z
DTSTART:20241127T160000Z
DTEND:20241212T060000Z
LOCATION:High Seas 1921 Harbor Blvd
SUMMARY:Holiday Curiosity Boxes
DESCRIPTION:All aboard for HOLIDAY UNDER THE HIGH SEAS 🌊🎁✨ We&#8217
 ;re unveiling 3 NEW Holiday Curiosity Boxes\,  available for a limited time
  with a qualifying purchase. Each Curiosity Box contains a curated selectio
 n of products and essential items. Introducing: The SLEEP Box\,  The WELLNE
 SS Box\,  and The SMOKER&#8217;S Box. THE SLEEP[..]\nhttps://shophighseas.c
 om/events/holiday-boxes-2024/
URL:/events/holiday-boxes-2024/
END:VEVENT
END:VCALENDAR