BEGIN:VCALENDAR
VERSION:2.0
PRODID:-//eventon.com NONSGML v1.0//EN
CALSCALE:GREGORIAN
METHOD:PUBLISH
BEGIN:VEVENT
UID:69eca4d3627ec
DTSTAMP:20260425T112611Z
DTSTART:20250129T170000Z
DTEND:20250129T190000Z
LOCATION:High Seas 1921 Harbor Blvd
SUMMARY:Golden Hour🌟
DESCRIPTION:Double the Points\,  Double the Magic✨🐍🧧 Celebrate Luna
 r New Year with Golden Hour at High Seas! During these limited-time shopp
 ing events\,  earn double loyalty points on every purchase and unlock eve
 n greater rewards. Whether you’re starting your day or ending it on a hig
 h note\,  Golden Hour is your chance to make clever choices[..]\nhttps://sh
 ophighseas.com/events/golden-hour-2025/
URL:/events/golden-hour-2025/
END:VEVENT
END:VCALENDAR